BEGIN:VCALENDAR
PRODID:brasil.gov.agenda
VERSION:1.0
BEGIN:VEVENT
DTSTART:20210615T080000Z
DTEND:20210615T120000Z
DCREATED:20210616T123021Z
UID:Compromisso-1a3d18adfd0e47f3a4d7bde1bf6f9998
SEQUENCE:0
LAST-MODIFIED:20210616T123021Z
SUMMARY:Despachos Internos
LOCATION:Reitoria
PRIORITY:3
TRANSP:0
END:VEVENT
END:VCALENDAR
