BEGIN:VCALENDAR
PRODID:brasil.gov.agenda
VERSION:1.0
BEGIN:VEVENT
DTSTART:20210615T140000Z
DTEND:20210615T180000Z
DCREATED:20210616T123037Z
UID:Compromisso-8d6df8753659434abbd3a80df9f82446
SEQUENCE:0
LAST-MODIFIED:20210616T123037Z
SUMMARY:Despachos Internos
LOCATION:Reitoria
PRIORITY:3
TRANSP:0
END:VEVENT
END:VCALENDAR
