BEGIN:VCALENDAR
PRODID:brasil.gov.agenda
VERSION:1.0
BEGIN:VEVENT
DTSTART:20210611T080000Z
DTEND:20210611T120000Z
DCREATED:20210611T171526Z
UID:Compromisso-810c4dafe2824f8b83eec654d1b78be2
SEQUENCE:0
LAST-MODIFIED:20210611T171526Z
SUMMARY:Despachos Internos
LOCATION:Reitoria
PRIORITY:3
TRANSP:0
END:VEVENT
END:VCALENDAR
