BEGIN:VCALENDAR
PRODID:brasil.gov.agenda
VERSION:1.0
BEGIN:VEVENT
DTSTART:20210611T130000Z
DTEND:20210611T180000Z
DCREATED:20210611T171545Z
UID:Compromisso-39db8f36fbde42668722df942c6aeacd
SEQUENCE:0
LAST-MODIFIED:20210611T171545Z
SUMMARY:Despachos Internos
LOCATION:Reitoria
PRIORITY:3
TRANSP:0
END:VEVENT
END:VCALENDAR
