BEGIN:VCALENDAR
PRODID:brasil.gov.agenda
VERSION:1.0
BEGIN:VEVENT
DTSTART:20210610T143000Z
DTEND:20210610T180000Z
DCREATED:20210611T172633Z
UID:Compromisso-a547946ac05343309fa0af0ce415a3d2
SEQUENCE:0
LAST-MODIFIED:20210611T172633Z
SUMMARY:Reunião com a Secretaria de Processo Administrativo (SecPad)
DESCRIPTION:Despachos internos
LOCATION:Reitoria
PRIORITY:3
TRANSP:0
END:VEVENT
END:VCALENDAR
