BEGIN:VCALENDAR
PRODID:brasil.gov.agenda
VERSION:1.0
BEGIN:VEVENT
DTSTART:20210610T080000Z
DTEND:20210610T120000Z
DCREATED:20210611T172550Z
UID:Compromisso-d8376976bfb641b183e4bd4564109a2e
SEQUENCE:0
LAST-MODIFIED:20210611T172550Z
SUMMARY:Despachos Internos
LOCATION:Reitoria
PRIORITY:3
TRANSP:0
END:VEVENT
END:VCALENDAR
