BEGIN:VCALENDAR
PRODID:brasil.gov.agenda
VERSION:1.0
BEGIN:VEVENT
DTSTART:20210609T080000Z
DTEND:20210609T120000Z
DCREATED:20210611T172416Z
UID:Compromisso-87b10d3cbf9c444db0225e5c82dedf3f
SEQUENCE:0
LAST-MODIFIED:20210611T172416Z
SUMMARY:Despachos Internos
LOCATION:Reitoria
PRIORITY:3
TRANSP:0
END:VEVENT
END:VCALENDAR
