BEGIN:VCALENDAR
PRODID:brasil.gov.agenda
VERSION:1.0
BEGIN:VEVENT
DTSTART:20210608T101400Z
DTEND:20210608T113000Z
DCREATED:20210608T132037Z
UID:Compromisso-57d52c688a2a4b4093f327db6713301a
SEQUENCE:0
LAST-MODIFIED:20210608T132037Z
SUMMARY:Sessão de posse
LOCATION:Reitoria
PRIORITY:3
TRANSP:0
END:VEVENT
END:VCALENDAR
