BEGIN:VCALENDAR
PRODID:brasil.gov.agenda
VERSION:1.0
BEGIN:VEVENT
DTSTART:20210608T080000Z
DTEND:20210608T100000Z
DCREATED:20210608T132009Z
UID:Compromisso-f88fabd2dcc6489db45a2209a382e526
SEQUENCE:0
LAST-MODIFIED:20210608T132009Z
SUMMARY:Despachos Internos
LOCATION:Reitoria
PRIORITY:3
TRANSP:0
END:VEVENT
END:VCALENDAR
