BEGIN:VCALENDAR
PRODID:brasil.gov.agenda
VERSION:1.0
BEGIN:VEVENT
DTSTART:20210608T150000Z
DTEND:20210608T180000Z
DCREATED:20210608T132246Z
UID:Compromisso-3df5ac7fd0ad46429c3d8d1d272e2539
SEQUENCE:0
LAST-MODIFIED:20210608T132246Z
SUMMARY:Despachos Internos
LOCATION:Reitoria
PRIORITY:3
TRANSP:0
END:VEVENT
END:VCALENDAR
