BEGIN:VCALENDAR
PRODID:brasil.gov.agenda
VERSION:1.0
BEGIN:VEVENT
DTSTART:20210531T080000Z
DTEND:20210531T120000Z
DCREATED:20210531T110522Z
UID:Compromisso-1befdeb69f1241c48c587de9dcfa2ae9
SEQUENCE:0
LAST-MODIFIED:20210531T110522Z
SUMMARY:Despachos Internos
LOCATION:Reitoria
PRIORITY:3
TRANSP:0
END:VEVENT
END:VCALENDAR
