BEGIN:VCALENDAR
PRODID:brasil.gov.agenda
VERSION:1.0
BEGIN:VEVENT
DTSTART:20210531T140000Z
DTEND:20210531T170000Z
DCREATED:20210531T110458Z
UID:Compromisso-45b3c1437ad144c29568d52c686bc50c
SEQUENCE:0
LAST-MODIFIED:20210531T110458Z
SUMMARY:165ª reunião em caráter ordinário do CONSEPE
LOCATION:Compromisso on-line
PRIORITY:3
TRANSP:0
END:VEVENT
END:VCALENDAR
