BEGIN:VCALENDAR
PRODID:brasil.gov.agenda
VERSION:1.0
BEGIN:VEVENT
DTSTART:20210527T150000Z
DTEND:20210527T160000Z
DCREATED:20210527T114957Z
UID:Compromisso-bf42c242d2e04515a836485885a3e799
SEQUENCE:0
LAST-MODIFIED:20210527T114957Z
SUMMARY:Reunião com servidor
DESCRIPTION:Redistribuição - Permuta
LOCATION:Compromisso on-line
PRIORITY:3
TRANSP:0
END:VEVENT
END:VCALENDAR
