BEGIN:VCALENDAR
PRODID:brasil.gov.agenda
VERSION:1.0
BEGIN:VEVENT
DTSTART:20210527T080000Z
DTEND:20210527T120000Z
DCREATED:20210527T114045Z
UID:Compromisso-86b4e8648d734919b9e9d530e1e0aa91
SEQUENCE:0
LAST-MODIFIED:20210527T114045Z
SUMMARY:Despachos Internos
LOCATION:Reitoria
PRIORITY:3
TRANSP:0
END:VEVENT
END:VCALENDAR
