BEGIN:VCALENDAR
PRODID:brasil.gov.agenda
VERSION:1.0
BEGIN:VEVENT
DTSTART:20210527T170000Z
DTEND:20210527T180000Z
DCREATED:20210527T115022Z
UID:Compromisso-9008833109e14aff872ba578a2d89ccb
SEQUENCE:0
LAST-MODIFIED:20210527T115023Z
SUMMARY:Despachos Internos
LOCATION:Reitoria
PRIORITY:3
TRANSP:0
END:VEVENT
END:VCALENDAR
