BEGIN:VCALENDAR
PRODID:brasil.gov.agenda
VERSION:1.0
BEGIN:VEVENT
DTSTART:20210526T093500Z
DTEND:20210526T120000Z
DCREATED:20210526T130146Z
UID:Compromisso-02ee2d8fccfa4c6dbabdabc07843c111
SEQUENCE:0
LAST-MODIFIED:20210526T130146Z
SUMMARY:Despachos Internos
LOCATION:Reitoria
PRIORITY:3
TRANSP:0
END:VEVENT
END:VCALENDAR
