BEGIN:VCALENDAR
PRODID:brasil.gov.agenda
VERSION:1.0
BEGIN:VEVENT
DTSTART:20210518T000000Z
DTEND:20210518T000000Z
DCREATED:20210519T110122Z
UID:Compromisso-ffef7bc6374149c5a591d0a800aaa248
SEQUENCE:0
LAST-MODIFIED:20210519T110122Z
SUMMARY:Férias regulamentares
PRIORITY:3
TRANSP:0
END:VEVENT
END:VCALENDAR
