BEGIN:VCALENDAR
PRODID:brasil.gov.agenda
VERSION:1.0
BEGIN:VEVENT
DTSTART:20210511T000000Z
DTEND:20210511T000000Z
DCREATED:20210511T162754Z
UID:Compromisso-01feb405023a486da2dee9edab7efb51
SEQUENCE:0
LAST-MODIFIED:20210511T162755Z
SUMMARY:Férias regulamentares
PRIORITY:3
TRANSP:0
END:VEVENT
END:VCALENDAR
