BEGIN:VCALENDAR
PRODID:brasil.gov.agenda
VERSION:1.0
BEGIN:VEVENT
DTSTART:20210507T000000Z
DTEND:20210507T000000Z
DCREATED:20210507T164427Z
UID:Compromisso-a880610c19b848969b4b6cf0955e50ff
SEQUENCE:0
LAST-MODIFIED:20210507T164427Z
SUMMARY:Férias regulamentares
LOCATION:Reitoria
PRIORITY:3
TRANSP:0
END:VEVENT
END:VCALENDAR
