BEGIN:VCALENDAR
PRODID:brasil.gov.agenda
VERSION:1.0
BEGIN:VEVENT
DTSTART:20210506T000000Z
DTEND:20210506T000000Z
DCREATED:20210506T170228Z
UID:Compromisso-e135cb7d4aed43c19c684edfd6d14818
SEQUENCE:0
LAST-MODIFIED:20210506T170228Z
SUMMARY:Férias regulamentares
PRIORITY:3
TRANSP:0
END:VEVENT
END:VCALENDAR
