BEGIN:VCALENDAR
PRODID:brasil.gov.agenda
VERSION:1.0
BEGIN:VEVENT
DTSTART:20210504T000000Z
DTEND:20210504T000000Z
DCREATED:20210504T121243Z
UID:Compromisso-cdb8a6f90a2e41f89b0247bd9324e2a3
SEQUENCE:0
LAST-MODIFIED:20210504T121243Z
SUMMARY:Férias regulamentares
LOCATION:Reitori
PRIORITY:3
TRANSP:0
END:VEVENT
END:VCALENDAR
