BEGIN:VCALENDAR
PRODID:brasil.gov.agenda
VERSION:1.0
BEGIN:VEVENT
DTSTART:20210503T000000Z
DTEND:20210503T000000Z
DCREATED:20210503T113953Z
UID:Compromisso-da91e5bb28c041538d86d22c0b6bdd78
SEQUENCE:0
LAST-MODIFIED:20210503T113953Z
SUMMARY:Férias regulamentares
LOCATION:Reitoria
PRIORITY:3
TRANSP:0
END:VEVENT
END:VCALENDAR
