BEGIN:VCALENDAR
PRODID:brasil.gov.agenda
VERSION:1.0
BEGIN:VEVENT
DTSTART:20210430T000000Z
DTEND:20210430T000000Z
DCREATED:20210430T193833Z
UID:Compromisso-fa345c7d8beb4bfab2089f22605c96e5
SEQUENCE:0
LAST-MODIFIED:20210430T193834Z
SUMMARY:164ª reunião em caráter ordinário do CONSEPE
LOCATION:Reitoria
PRIORITY:3
TRANSP:0
END:VEVENT
END:VCALENDAR
