BEGIN:VCALENDAR
PRODID:brasil.gov.agenda
VERSION:1.0
BEGIN:VEVENT
DTSTART:20210430T140000Z
DTEND:20210430T170000Z
DCREATED:20210430T193901Z
UID:Compromisso-22165fe9faf7483f966a23ee5947e910
SEQUENCE:0
LAST-MODIFIED:20210430T193901Z
SUMMARY:164ª reunião em caráter ordinário do CONSEPE
LOCATION:Reitoria
PRIORITY:3
TRANSP:0
END:VEVENT
END:VCALENDAR
