BEGIN:VCALENDAR
PRODID:brasil.gov.agenda
VERSION:1.0
BEGIN:VEVENT
DTSTART:20210429T090000Z
DTEND:20210429T120000Z
DCREATED:20210428T111929Z
UID:Compromisso-34f740a1e80d4e1c85daf1dd66c2a1e1
SEQUENCE:0
LAST-MODIFIED:20210429T114126Z
SUMMARY:141ª sessão em caráter ordinário do CONSU
LOCATION:Compromisso on-line
PRIORITY:3
TRANSP:0
END:VEVENT
END:VCALENDAR
