BEGIN:VCALENDAR
PRODID:brasil.gov.agenda
VERSION:1.0
BEGIN:VEVENT
DTSTART:20210429T140000Z
DTEND:20210429T180000Z
DCREATED:20210428T112000Z
UID:Compromisso-5114260ad7e74f6dbccd200a2c430285
SEQUENCE:0
LAST-MODIFIED:20210429T114145Z
SUMMARY:141ª sessão em caráter ordinário do CONSU
LOCATION:Compromisso on-line
PRIORITY:3
TRANSP:0
END:VEVENT
END:VCALENDAR
