BEGIN:VCALENDAR
PRODID:brasil.gov.agenda
VERSION:1.0
BEGIN:VEVENT
DTSTART:20210428T140000Z
DTEND:20210428T170000Z
DCREATED:20210428T112116Z
UID:Compromisso-2feb0b285ca2494fa7119dc26fddfcff
SEQUENCE:0
LAST-MODIFIED:20210428T112159Z
SUMMARY:Despachos Internos
LOCATION:Reitoria
PRIORITY:3
TRANSP:0
END:VEVENT
END:VCALENDAR
