BEGIN:VCALENDAR
PRODID:brasil.gov.agenda
VERSION:1.0
BEGIN:VEVENT
DTSTART:20210428T080000Z
DTEND:20210428T120000Z
DCREATED:20210428T112056Z
UID:Compromisso-f9d58cf84c7542f2b15234eade5c0aaa
SEQUENCE:0
LAST-MODIFIED:20210428T112056Z
SUMMARY:Despachos Internos
LOCATION:Reitoria
PRIORITY:3
TRANSP:0
END:VEVENT
END:VCALENDAR
