BEGIN:VCALENDAR
PRODID:brasil.gov.agenda
VERSION:1.0
BEGIN:VEVENT
DTSTART:20210426T160000Z
DTEND:20210426T180000Z
DCREATED:20210426T122741Z
UID:Compromisso-5b18310fd0a04a31b0d4eb321bcebca5
SEQUENCE:0
LAST-MODIFIED:20210426T122741Z
SUMMARY:Despachos Internos
LOCATION:Reitoria
PRIORITY:3
TRANSP:0
END:VEVENT
END:VCALENDAR
