BEGIN:VCALENDAR
PRODID:brasil.gov.agenda
VERSION:1.0
BEGIN:VEVENT
DTSTART:20210422T083000Z
DTEND:20210422T120000Z
DCREATED:20210422T112157Z
UID:Compromisso-867dbeb2446b41a892a45cf293dcb143
SEQUENCE:0
LAST-MODIFIED:20210422T112157Z
SUMMARY:Despacho Interno
LOCATION:Reitoria
PRIORITY:3
TRANSP:0
END:VEVENT
END:VCALENDAR
