BEGIN:VCALENDAR
PRODID:brasil.gov.agenda
VERSION:1.0
BEGIN:VEVENT
DTSTART:20210422T140000Z
DTEND:20210422T153000Z
DCREATED:20210422T112239Z
UID:Compromisso-303c4ee346a74238a6e330e0aa63dd9f
SEQUENCE:0
LAST-MODIFIED:20210422T112239Z
SUMMARY:Despacho Interno
LOCATION:Trabalho remoto
PRIORITY:3
TRANSP:0
END:VEVENT
END:VCALENDAR
