BEGIN:VCALENDAR
PRODID:brasil.gov.agenda
VERSION:1.0
BEGIN:VEVENT
DTSTART:20210422T080000Z
DTEND:20210422T083000Z
DCREATED:20210422T112042Z
UID:Compromisso-9610282775804d9cb6c9a3fa04d80557
SEQUENCE:0
LAST-MODIFIED:20210422T112128Z
SUMMARY:Colação de grau antecipada
LOCATION:Compromisso on-line
PRIORITY:3
TRANSP:0
END:VEVENT
END:VCALENDAR
