BEGIN:VCALENDAR
PRODID:brasil.gov.agenda
VERSION:1.0
BEGIN:VEVENT
DTSTART:20210420T090000Z
DTEND:20210420T100000Z
DCREATED:20210420T121617Z
UID:Compromisso-2ddbd75834b848ebbd713717cec7a330
SEQUENCE:0
LAST-MODIFIED:20210420T122041Z
SUMMARY:Reunião com a Pró-reitoria de Gestão de Pessoas (PROGEP)
DESCRIPTION:Lei Geral de Proteção de Dados - Lei nº 13.709\, de 14 
 de agosto de 2018
LOCATION:Compromisso on-line
PRIORITY:3
TRANSP:0
END:VEVENT
END:VCALENDAR
