BEGIN:VCALENDAR
PRODID:brasil.gov.agenda
VERSION:1.0
BEGIN:VEVENT
DTSTART:20210420T080000Z
DTEND:20210420T090000Z
DCREATED:20210420T115022Z
UID:Compromisso-144297cc34354bc6a03e9ae1d13ce12b
SEQUENCE:0
LAST-MODIFIED:20210420T115022Z
SUMMARY:Despacho Interno
LOCATION:Em trabalho remoto
PRIORITY:3
TRANSP:0
END:VEVENT
END:VCALENDAR
