BEGIN:VCALENDAR
PRODID:brasil.gov.agenda
VERSION:1.0
BEGIN:VEVENT
DTSTART:20210413T000000Z
DTEND:20210413T000000Z
DCREATED:20210416T123938Z
UID:Compromisso-8a7c8b2998b64cc9bdccc6db36bd91c3
SEQUENCE:0
LAST-MODIFIED:20210416T123939Z
SUMMARY:Em licença
PRIORITY:3
TRANSP:0
END:VEVENT
END:VCALENDAR
