BEGIN:VCALENDAR
PRODID:brasil.gov.agenda
VERSION:1.0
BEGIN:VEVENT
DTSTART:20210331T080000Z
DTEND:20210331T120000Z
DCREATED:20210331T112316Z
UID:Compromisso-81e90d970e64421e9fcf085f7665d2b5
SEQUENCE:0
LAST-MODIFIED:20210331T112848Z
SUMMARY:Despachos Internos
LOCATION:Reitoria
PRIORITY:3
TRANSP:0
END:VEVENT
END:VCALENDAR
