BEGIN:VCALENDAR
PRODID:brasil.gov.agenda
VERSION:1.0
BEGIN:VEVENT
DTSTART:20210331T140000Z
DTEND:20210331T180000Z
DCREATED:20210331T112342Z
UID:Compromisso-42f7c59fc64640f7b26e9e6bb3b433d5
SEQUENCE:0
LAST-MODIFIED:20210331T112914Z
SUMMARY:Despachos Internos
LOCATION:Reitoria
PRIORITY:3
TRANSP:0
END:VEVENT
END:VCALENDAR
