BEGIN:VCALENDAR
PRODID:brasil.gov.agenda
VERSION:1.0
BEGIN:VEVENT
DTSTART:20210330T080000Z
DTEND:20210330T120000Z
DCREATED:20210329T112424Z
UID:Compromisso-8c02e7afb8cb48bd8c515f93cea7fe1c
SEQUENCE:0
LAST-MODIFIED:20210329T112424Z
SUMMARY:Despachos Internos
LOCATION:Reitoria
PRIORITY:3
TRANSP:0
END:VEVENT
END:VCALENDAR
