BEGIN:VCALENDAR
PRODID:brasil.gov.agenda
VERSION:1.0
BEGIN:VEVENT
DTSTART:20210330T140000Z
DTEND:20210330T180000Z
DCREATED:20210329T112444Z
UID:Compromisso-4e7e4553a3c049fabcf10290ae926b4d
SEQUENCE:0
LAST-MODIFIED:20210329T112444Z
SUMMARY:Despachos Internos
LOCATION:Reitoria
PRIORITY:3
TRANSP:0
END:VEVENT
END:VCALENDAR
