BEGIN:VCALENDAR
PRODID:brasil.gov.agenda
VERSION:1.0
BEGIN:VEVENT
DTSTART:20210326T100000Z
DTEND:20210326T120000Z
DCREATED:20210326T125156Z
UID:Compromisso-ae2cffd00f564150b0cf2ef597e9f110
SEQUENCE:0
LAST-MODIFIED:20210326T125156Z
SUMMARY:Despachos Internos
LOCATION:Reitoria
PRIORITY:3
TRANSP:0
END:VEVENT
END:VCALENDAR
