BEGIN:VCALENDAR
PRODID:brasil.gov.agenda
VERSION:1.0
BEGIN:VEVENT
DTSTART:20210326T080000Z
DTEND:20210326T090000Z
DCREATED:20210326T113630Z
UID:Compromisso-ab64a3ef327d48db8ad831eb349a4972
SEQUENCE:0
LAST-MODIFIED:20210326T125138Z
SUMMARY:163ª reunião em caráter extraordinário do CONSEPE
LOCATION:Compromisso online
PRIORITY:3
TRANSP:0
END:VEVENT
END:VCALENDAR
