BEGIN:VCALENDAR
PRODID:brasil.gov.agenda
VERSION:1.0
BEGIN:VEVENT
DTSTART:20210325T140000Z
DTEND:20210325T180000Z
DCREATED:20210325T120053Z
UID:Compromisso-fe76532c431340b1bd8cb8caa25c54e9
SEQUENCE:0
LAST-MODIFIED:20210325T120053Z
SUMMARY:232ª reunião\, sendo a 140ª sessão em caráter ordinário do CONSU
LOCATION:Compromisso online
PRIORITY:3
TRANSP:0
END:VEVENT
END:VCALENDAR
