BEGIN:VCALENDAR
PRODID:brasil.gov.agenda
VERSION:1.0
BEGIN:VEVENT
DTSTART:20210324T080000Z
DTEND:20210324T120000Z
DCREATED:20210324T112204Z
UID:Compromisso-61cb695663b74fd383c39b054aa34e20
SEQUENCE:0
LAST-MODIFIED:20210324T112204Z
SUMMARY:Despachos Internos
LOCATION:Reitoria
PRIORITY:3
TRANSP:0
END:VEVENT
END:VCALENDAR
