BEGIN:VCALENDAR
PRODID:brasil.gov.agenda
VERSION:1.0
BEGIN:VEVENT
DTSTART:20210324T140000Z
DTEND:20210324T180000Z
DCREATED:20210324T112226Z
UID:Compromisso-4cbb9354fcd2428a97ba84e2a5ccd4f8
SEQUENCE:0
LAST-MODIFIED:20210324T112226Z
SUMMARY:Despachos Internos
LOCATION:Reitoria
PRIORITY:3
TRANSP:0
END:VEVENT
END:VCALENDAR
