BEGIN:VCALENDAR
PRODID:brasil.gov.agenda
VERSION:1.0
BEGIN:VEVENT
DTSTART:20210323T000000Z
DTEND:20210323T000000Z
DCREATED:20210323T114836Z
UID:Compromisso-166fd5e255254c1bbdb7e5ec8fbd28d0
SEQUENCE:0
LAST-MODIFIED:20210323T114836Z
SUMMARY:Despachos Internos
LOCATION:Reitoria
PRIORITY:3
TRANSP:0
END:VEVENT
END:VCALENDAR
