BEGIN:VCALENDAR
PRODID:brasil.gov.agenda
VERSION:1.0
BEGIN:VEVENT
DTSTART:20210323T140000Z
DTEND:20210323T170000Z
DCREATED:20210323T115025Z
UID:Compromisso-214204bca3464aac81e3af81bdb18cc3
SEQUENCE:0
LAST-MODIFIED:20210323T115025Z
SUMMARY:232ª reunião\, sendo a 140ª sessão em caráter ordinário do CONSU
LOCATION:Compromisso online
PRIORITY:3
TRANSP:0
END:VEVENT
END:VCALENDAR
