BEGIN:VCALENDAR
PRODID:brasil.gov.agenda
VERSION:1.0
BEGIN:VEVENT
DTSTART:20210322T080000Z
DTEND:20210322T120000Z
DCREATED:20210322T112659Z
UID:Compromisso-7bf4dd3bd33640038fc0fb555e57a68a
SEQUENCE:0
LAST-MODIFIED:20210322T112659Z
SUMMARY:Despachos Internos
LOCATION:Reitoria
PRIORITY:3
TRANSP:0
END:VEVENT
END:VCALENDAR
