BEGIN:VCALENDAR
PRODID:brasil.gov.agenda
VERSION:1.0
BEGIN:VEVENT
DTSTART:20210319T080000Z
DTEND:20210319T120000Z
DCREATED:20210318T112734Z
UID:Compromisso-10e22ed793d74f8fb3b29c1b1e91a631
SEQUENCE:0
LAST-MODIFIED:20210318T112734Z
SUMMARY:Despachos Internos
LOCATION:Reitoria
PRIORITY:3
TRANSP:0
END:VEVENT
END:VCALENDAR
