BEGIN:VCALENDAR
PRODID:brasil.gov.agenda
VERSION:1.0
BEGIN:VEVENT
DTSTART:20210319T120000Z
DTEND:20210319T180000Z
DCREATED:20210318T112801Z
UID:Compromisso-1733b60429dd48ebb7836637659324db
SEQUENCE:0
LAST-MODIFIED:20210318T112801Z
SUMMARY:Despachos Internos
LOCATION:Reitoria
PRIORITY:3
TRANSP:0
END:VEVENT
END:VCALENDAR
