BEGIN:VCALENDAR
PRODID:brasil.gov.agenda
VERSION:1.0
BEGIN:VEVENT
DTSTART:20210318T140000Z
DTEND:20210318T150000Z
DCREATED:20210319T111739Z
UID:Compromisso-0e540e43fbc542a0935da3e040c32add
SEQUENCE:0
LAST-MODIFIED:20210319T111739Z
SUMMARY:Reunião com a comissão  incumbida da elaboração do Plano de Integridade 2021 a 2023
LOCATION:Compromisso online
PRIORITY:3
TRANSP:0
END:VEVENT
END:VCALENDAR
